BEGIN:VCALENDAR
VERSION:2.0
PRODID:-//Fort Lauderdale Police and Firefighters&#039; - ECPv6.15.20//NONSGML v1.0//EN
CALSCALE:GREGORIAN
METHOD:PUBLISH
X-ORIGINAL-URL:https://ftlaudpfpension.com
X-WR-CALDESC:Events for Fort Lauderdale Police and Firefighters&#039;
REFRESH-INTERVAL;VALUE=DURATION:PT1H
X-Robots-Tag:noindex
X-PUBLISHED-TTL:PT1H
BEGIN:VTIMEZONE
TZID:America/New_York
BEGIN:DAYLIGHT
TZOFFSETFROM:-0500
TZOFFSETTO:-0400
TZNAME:EDT
DTSTART:20250309T070000
END:DAYLIGHT
BEGIN:STANDARD
TZOFFSETFROM:-0400
TZOFFSETTO:-0500
TZNAME:EST
DTSTART:20251102T060000
END:STANDARD
BEGIN:DAYLIGHT
TZOFFSETFROM:-0500
TZOFFSETTO:-0400
TZNAME:EDT
DTSTART:20260308T070000
END:DAYLIGHT
BEGIN:STANDARD
TZOFFSETFROM:-0400
TZOFFSETTO:-0500
TZNAME:EST
DTSTART:20261101T060000
END:STANDARD
BEGIN:DAYLIGHT
TZOFFSETFROM:-0500
TZOFFSETTO:-0400
TZNAME:EDT
DTSTART:20270314T070000
END:DAYLIGHT
BEGIN:STANDARD
TZOFFSETFROM:-0400
TZOFFSETTO:-0500
TZNAME:EST
DTSTART:20271107T060000
END:STANDARD
END:VTIMEZONE
BEGIN:VEVENT
DTSTART;TZID=America/New_York:20260211T123000
DTEND;TZID=America/New_York:20260211T150000
DTSTAMP:20260422T184841
CREATED:20251027T140304Z
LAST-MODIFIED:20251211T171845Z
UID:3069-1770813000-1770822000@ftlaudpfpension.com
SUMMARY:Board Meeting February 11\, 2026
DESCRIPTION:
URL:https://ftlaudpfpension.com/event/board-meeting/
END:VEVENT
BEGIN:VEVENT
DTSTART;TZID=America/New_York:20260213T080000
DTEND;TZID=America/New_York:20260213T153000
DTSTAMP:20260422T184841
CREATED:20251027T140336Z
LAST-MODIFIED:20251027T140650Z
UID:3071-1770969600-1770996600@ftlaudpfpension.com
SUMMARY:Retirement Seminar February 13\, 2026
DESCRIPTION:
URL:https://ftlaudpfpension.com/event/retirement-seminar/
END:VEVENT
BEGIN:VEVENT
DTSTART;TZID=America/New_York:20260311T123000
DTEND;TZID=America/New_York:20260311T150000
DTSTAMP:20260422T184841
CREATED:20251211T171138Z
LAST-MODIFIED:20251211T171946Z
UID:3102-1773232200-1773241200@ftlaudpfpension.com
SUMMARY:Board Meeting March 11\, 2026
DESCRIPTION:
URL:https://ftlaudpfpension.com/event/board-meeting-march-11-2026/
END:VEVENT
BEGIN:VEVENT
DTSTART;TZID=America/New_York:20260408T123000
DTEND;TZID=America/New_York:20260408T150000
DTSTAMP:20260422T184841
CREATED:20251211T171159Z
LAST-MODIFIED:20251211T172040Z
UID:3104-1775651400-1775660400@ftlaudpfpension.com
SUMMARY:Board Meeting April 8\, 2026
DESCRIPTION:
URL:https://ftlaudpfpension.com/event/board-meeting-april-8-2026/
END:VEVENT
BEGIN:VEVENT
DTSTART;TZID=America/New_York:20260513T123000
DTEND;TZID=America/New_York:20260513T150000
DTSTAMP:20260422T184841
CREATED:20251211T172214Z
LAST-MODIFIED:20251211T172214Z
UID:3106-1778675400-1778684400@ftlaudpfpension.com
SUMMARY:Board Meeting May 13\, 2026
DESCRIPTION:
URL:https://ftlaudpfpension.com/event/board-meeting-may-13-2026/
END:VEVENT
BEGIN:VEVENT
DTSTART;TZID=America/New_York:20260610T080000
DTEND;TZID=America/New_York:20260610T170000
DTSTAMP:20260422T184841
CREATED:20260408T183530Z
LAST-MODIFIED:20260408T184151Z
UID:3273-1781078400-1781110800@ftlaudpfpension.com
SUMMARY:Board Meeting June 10\, 2026
DESCRIPTION:
URL:https://ftlaudpfpension.com/event/board-meeting-3/
END:VEVENT
BEGIN:VEVENT
DTSTART;TZID=America/New_York:20260708T080000
DTEND;TZID=America/New_York:20260708T170000
DTSTAMP:20260422T184841
CREATED:20260408T183808Z
LAST-MODIFIED:20260408T184504Z
UID:3282-1783497600-1783530000@ftlaudpfpension.com
SUMMARY:Board Meeting July 8\, 2026
DESCRIPTION:
URL:https://ftlaudpfpension.com/event/board-meeting-7/
END:VEVENT
BEGIN:VEVENT
DTSTART;TZID=America/New_York:20260812T080000
DTEND;TZID=America/New_York:20260812T170000
DTSTAMP:20260422T184841
CREATED:20260408T183614Z
LAST-MODIFIED:20260408T184404Z
UID:3276-1786521600-1786554000@ftlaudpfpension.com
SUMMARY:Board Meeting August 12\, 2026
DESCRIPTION:
URL:https://ftlaudpfpension.com/event/board-meeting-4/
END:VEVENT
BEGIN:VEVENT
DTSTART;TZID=America/New_York:20260916T080000
DTEND;TZID=America/New_York:20260916T170000
DTSTAMP:20260422T184841
CREATED:20260408T183639Z
LAST-MODIFIED:20260408T184243Z
UID:3278-1789545600-1789578000@ftlaudpfpension.com
SUMMARY:Board Meeting September 16\, 2026
DESCRIPTION:
URL:https://ftlaudpfpension.com/event/board-meeting-5/
END:VEVENT
BEGIN:VEVENT
DTSTART;TZID=America/New_York:20261014T080000
DTEND;TZID=America/New_York:20261014T170000
DTSTAMP:20260422T184841
CREATED:20260408T183725Z
LAST-MODIFIED:20260408T184431Z
UID:3280-1791964800-1791997200@ftlaudpfpension.com
SUMMARY:Board Meeting October 14\, 2026
DESCRIPTION:
URL:https://ftlaudpfpension.com/event/board-meeting-6/
END:VEVENT
BEGIN:VEVENT
DTSTART;TZID=America/New_York:20261118T080000
DTEND;TZID=America/New_York:20261118T170000
DTSTAMP:20260422T184841
CREATED:20260408T183855Z
LAST-MODIFIED:20260408T184528Z
UID:3284-1794988800-1795021200@ftlaudpfpension.com
SUMMARY:Board Meeting November 18\, 2026
DESCRIPTION:
URL:https://ftlaudpfpension.com/event/board-meeting-8/
END:VEVENT
BEGIN:VEVENT
DTSTART;TZID=America/New_York:20261209T080000
DTEND;TZID=America/New_York:20261209T170000
DTSTAMP:20260422T184841
CREATED:20260408T183952Z
LAST-MODIFIED:20260408T184547Z
UID:3286-1796803200-1796835600@ftlaudpfpension.com
SUMMARY:Board Meeting December 9\, 2026
DESCRIPTION:
URL:https://ftlaudpfpension.com/event/board-meeting-9/
END:VEVENT
END:VCALENDAR