BEGIN:VCALENDAR
VERSION:2.0
PRODID:-//Fort Lauderdale Police and Firefighters&#039; - ECPv6.15.20//NONSGML v1.0//EN
CALSCALE:GREGORIAN
METHOD:PUBLISH
X-ORIGINAL-URL:https://ftlaudpfpension.com
X-WR-CALDESC:Events for Fort Lauderdale Police and Firefighters&#039;
REFRESH-INTERVAL;VALUE=DURATION:PT1H
X-Robots-Tag:noindex
X-PUBLISHED-TTL:PT1H
BEGIN:VTIMEZONE
TZID:America/New_York
BEGIN:DAYLIGHT
TZOFFSETFROM:-0500
TZOFFSETTO:-0400
TZNAME:EDT
DTSTART:20250309T070000
END:DAYLIGHT
BEGIN:STANDARD
TZOFFSETFROM:-0400
TZOFFSETTO:-0500
TZNAME:EST
DTSTART:20251102T060000
END:STANDARD
BEGIN:DAYLIGHT
TZOFFSETFROM:-0500
TZOFFSETTO:-0400
TZNAME:EDT
DTSTART:20260308T070000
END:DAYLIGHT
BEGIN:STANDARD
TZOFFSETFROM:-0400
TZOFFSETTO:-0500
TZNAME:EST
DTSTART:20261101T060000
END:STANDARD
BEGIN:DAYLIGHT
TZOFFSETFROM:-0500
TZOFFSETTO:-0400
TZNAME:EDT
DTSTART:20270314T070000
END:DAYLIGHT
BEGIN:STANDARD
TZOFFSETFROM:-0400
TZOFFSETTO:-0500
TZNAME:EST
DTSTART:20271107T060000
END:STANDARD
END:VTIMEZONE
BEGIN:VEVENT
DTSTART;TZID=America/New_York:20260916T080000
DTEND;TZID=America/New_York:20260916T170000
DTSTAMP:20260422T184607
CREATED:20260408T183639Z
LAST-MODIFIED:20260408T184243Z
UID:3278-1789545600-1789578000@ftlaudpfpension.com
SUMMARY:Board Meeting September 16\, 2026
DESCRIPTION:
URL:https://ftlaudpfpension.com/event/board-meeting-5/
END:VEVENT
BEGIN:VEVENT
DTSTART;TZID=America/New_York:20261014T080000
DTEND;TZID=America/New_York:20261014T170000
DTSTAMP:20260422T184607
CREATED:20260408T183725Z
LAST-MODIFIED:20260408T184431Z
UID:3280-1791964800-1791997200@ftlaudpfpension.com
SUMMARY:Board Meeting October 14\, 2026
DESCRIPTION:
URL:https://ftlaudpfpension.com/event/board-meeting-6/
END:VEVENT
BEGIN:VEVENT
DTSTART;TZID=America/New_York:20261118T080000
DTEND;TZID=America/New_York:20261118T170000
DTSTAMP:20260422T184607
CREATED:20260408T183855Z
LAST-MODIFIED:20260408T184528Z
UID:3284-1794988800-1795021200@ftlaudpfpension.com
SUMMARY:Board Meeting November 18\, 2026
DESCRIPTION:
URL:https://ftlaudpfpension.com/event/board-meeting-8/
END:VEVENT
BEGIN:VEVENT
DTSTART;TZID=America/New_York:20261209T080000
DTEND;TZID=America/New_York:20261209T170000
DTSTAMP:20260422T184607
CREATED:20260408T183952Z
LAST-MODIFIED:20260408T184547Z
UID:3286-1796803200-1796835600@ftlaudpfpension.com
SUMMARY:Board Meeting December 9\, 2026
DESCRIPTION:
URL:https://ftlaudpfpension.com/event/board-meeting-9/
END:VEVENT
END:VCALENDAR